BEGIN:VCALENDAR
VERSION:2.0
PRODID:-//eventon.com NONSGML v1.0//EN
CALSCALE:GREGORIAN
METHOD:PUBLISH
BEGIN:VEVENT
UID:69eb3b232948d
DTSTAMP:20260424T094259Z
DTSTART:20260511
DTEND:20260512
LOCATION:Skydive Saulgau Glockeneichweg 135
SUMMARY:Sprungwoche Bad Saulgau
DESCRIPTION:\nhttps://www.skyhigh-ev.de/events/sprungwoche-bad-saulgau/
URL:https://www.skyhigh-ev.de/events/sprungwoche-bad-saulgau/
END:VEVENT
END:VCALENDAR