BEGIN:VCALENDAR
VERSION:2.0
PRODID:-//eventon.com NONSGML v1.0//EN
CALSCALE:GREGORIAN
METHOD:PUBLISH
BEGIN:VEVENT
UID:69eb3b8598f52
DTSTAMP:20260424T094437Z
DTSTART:20261024
DTEND:20261025
LOCATION:Drop Zone Eschbach Hartheimer Straße 15a
SUMMARY:Sprungbetrieb
DESCRIPTION:\nhttps://www.skyhigh-ev.de/events/sprungbetrieb-50/
URL:https://www.skyhigh-ev.de/events/sprungbetrieb-50/
END:VEVENT
END:VCALENDAR