BEGIN:VCALENDAR
VERSION:2.0
PRODID:-//eventon.com NONSGML v1.0//EN
CALSCALE:GREGORIAN
METHOD:PUBLISH
BEGIN:VEVENT
UID:69eb3a74efd5b
DTSTAMP:20260424T094004Z
DTSTART:20261017
DTEND:20261018
LOCATION:Drop Zone Eschbach Hartheimer Straße 15a
SUMMARY:Sprungbetrieb
DESCRIPTION:\nhttps://www.skyhigh-ev.de/events/sprungbetrieb-49/
URL:https://www.skyhigh-ev.de/events/sprungbetrieb-49/
END:VEVENT
END:VCALENDAR