BEGIN:VCALENDAR
VERSION:2.0
PRODID:-//eventon.com NONSGML v1.0//EN
CALSCALE:GREGORIAN
METHOD:PUBLISH
BEGIN:VEVENT
UID:69eb3b999eaa6
DTSTAMP:20260424T094457Z
DTSTART:20261003
DTEND:20261004
LOCATION:Drop Zone Eschbach Hartheimer Straße 15a
SUMMARY:Sprungbetrieb
DESCRIPTION:\nhttps://www.skyhigh-ev.de/events/sprungbetrieb-47/
URL:https://www.skyhigh-ev.de/events/sprungbetrieb-47/
END:VEVENT
END:VCALENDAR