BEGIN:VCALENDAR
VERSION:2.0
PRODID:-//eventon.com NONSGML v1.0//EN
CALSCALE:GREGORIAN
METHOD:PUBLISH
BEGIN:VEVENT
UID:69eb3b1cd7373
DTSTAMP:20260424T094252Z
DTSTART:20260926
DTEND:20260927
LOCATION:Drop Zone Eschbach Hartheimer Straße 15a
SUMMARY:Sprungbetrieb
DESCRIPTION:\nhttps://www.skyhigh-ev.de/events/sprungbetrieb-46/
URL:https://www.skyhigh-ev.de/events/sprungbetrieb-46/
END:VEVENT
END:VCALENDAR