BEGIN:VCALENDAR
VERSION:2.0
PRODID:-//eventon.com NONSGML v1.0//EN
CALSCALE:GREGORIAN
METHOD:PUBLISH
BEGIN:VEVENT
UID:69eb3b02b21a7
DTSTAMP:20260424T094226Z
DTSTART:20260822
DTEND:20260823
LOCATION:Drop Zone Eschbach Hartheimer Straße 15a
SUMMARY:Sprungbetrieb
DESCRIPTION:\nhttps://www.skyhigh-ev.de/events/sprungbetrieb-43/
URL:https://www.skyhigh-ev.de/events/sprungbetrieb-43/
END:VEVENT
END:VCALENDAR