BEGIN:VCALENDAR
VERSION:2.0
PRODID:-//eventon.com NONSGML v1.0//EN
CALSCALE:GREGORIAN
METHOD:PUBLISH
BEGIN:VEVENT
UID:69eb3a7f6ab2b
DTSTAMP:20260424T094015Z
DTSTART:20260815
DTEND:20260816
LOCATION:Drop Zone Eschbach Hartheimer Straße 15a
SUMMARY:Sprungbetrieb
DESCRIPTION:\nhttps://www.skyhigh-ev.de/events/sprungbetrieb-42/
URL:https://www.skyhigh-ev.de/events/sprungbetrieb-42/
END:VEVENT
END:VCALENDAR