BEGIN:VCALENDAR
VERSION:2.0
PRODID:-//eventon.com NONSGML v1.0//EN
CALSCALE:GREGORIAN
METHOD:PUBLISH
BEGIN:VEVENT
UID:69eb3ab7bf1c7
DTSTAMP:20260424T094111Z
DTSTART:20260808
DTEND:20260809
LOCATION:Drop Zone Eschbach Hartheimer Straße 15a
SUMMARY:Sprungbetrieb
DESCRIPTION:\nhttps://www.skyhigh-ev.de/events/sprungbetrieb-41/
URL:https://www.skyhigh-ev.de/events/sprungbetrieb-41/
END:VEVENT
END:VCALENDAR