BEGIN:VCALENDAR
VERSION:2.0
PRODID:-//eventon.com NONSGML v1.0//EN
CALSCALE:GREGORIAN
METHOD:PUBLISH
BEGIN:VEVENT
UID:69eb3b3139ee8
DTSTAMP:20260424T094313Z
DTSTART:20260426
DTEND:20260427
LOCATION:Drop Zone Eschbach Hartheimer Straße 15a
SUMMARY:Sprungbetrieb
DESCRIPTION:\nhttps://www.skyhigh-ev.de/events/sprungbetrieb-39/
URL:https://www.skyhigh-ev.de/events/sprungbetrieb-39/
END:VEVENT
END:VCALENDAR