BEGIN:VCALENDAR
VERSION:2.0
PRODID:-//eventon.com NONSGML v1.0//EN
CALSCALE:GREGORIAN
METHOD:PUBLISH
BEGIN:VEVENT
UID:69eb514aa10b8
DTSTAMP:20260424T111730Z
DTSTART:20260704
DTEND:20260705
LOCATION:Drop Zone Eschbach Hartheimer Straße 15a
SUMMARY:Sprungbetrieb
DESCRIPTION:\nhttps://www.skyhigh-ev.de/events/sprungbetrieb-37/
URL:https://www.skyhigh-ev.de/events/sprungbetrieb-37/
END:VEVENT
END:VCALENDAR