BEGIN:VCALENDAR
VERSION:2.0
PRODID:-//eventon.com NONSGML v1.0//EN
CALSCALE:GREGORIAN
METHOD:PUBLISH
BEGIN:VEVENT
UID:69eb3b1b5bef2
DTSTAMP:20260424T094251Z
DTSTART:20260620
DTEND:20260621
LOCATION:Drop Zone Eschbach Hartheimer Straße 15a
SUMMARY:Sprungbetrieb
DESCRIPTION:\nhttps://www.skyhigh-ev.de/events/sprungbetrieb-35/
URL:https://www.skyhigh-ev.de/events/sprungbetrieb-35/
END:VEVENT
END:VCALENDAR