BEGIN:VCALENDAR
VERSION:2.0
PRODID:-//eventon.com NONSGML v1.0//EN
CALSCALE:GREGORIAN
METHOD:PUBLISH
BEGIN:VEVENT
UID:69eb5129b6be1
DTSTAMP:20260424T111657Z
DTSTART:20260523
DTEND:20260524
LOCATION:Drop Zone Eschbach Hartheimer Straße 15a
SUMMARY:Sprungbetrieb
DESCRIPTION:\nhttps://www.skyhigh-ev.de/events/sprungbetrieb-33/
URL:https://www.skyhigh-ev.de/events/sprungbetrieb-33/
END:VEVENT
END:VCALENDAR