BEGIN:VCALENDAR
VERSION:2.0
PRODID:-//eventon.com NONSGML v1.0//EN
CALSCALE:GREGORIAN
METHOD:PUBLISH
BEGIN:VEVENT
UID:69eb3a767eefa
DTSTAMP:20260424T094006Z
DTSTART:20260509
DTEND:20260510
LOCATION:Drop Zone Eschbach Hartheimer Straße 15a
SUMMARY:Sprungbetrieb
DESCRIPTION:\nhttps://www.skyhigh-ev.de/events/sprungbetrieb-31/
URL:https://www.skyhigh-ev.de/events/sprungbetrieb-31/
END:VEVENT
END:VCALENDAR