BEGIN:VCALENDAR
VERSION:2.0
PRODID:-//eventon.com NONSGML v1.0//EN
CALSCALE:GREGORIAN
METHOD:PUBLISH
BEGIN:VEVENT
UID:69eb3b6a6ba88
DTSTAMP:20260424T094410Z
DTSTART:20260725
DTEND:20260726
LOCATION:Drop Zone Eschbach Hartheimer Straße 15a
SUMMARY:Sprungbetrieb
DESCRIPTION:\nhttps://www.skyhigh-ev.de/events/sprungbetrieb-copy-4/
URL:https://www.skyhigh-ev.de/events/sprungbetrieb-copy-4/
END:VEVENT
END:VCALENDAR