BEGIN:VCALENDAR
VERSION:2.0
PRODID:-//eventon.com NONSGML v1.0//EN
CALSCALE:GREGORIAN
METHOD:PUBLISH
BEGIN:VEVENT
UID:69eb3b414e284
DTSTAMP:20260424T094329Z
DTSTART:20260904
DTEND:20260905
LOCATION:Skydive Calw Beckenäcker 19
SUMMARY:Sprungwoche Calw
DESCRIPTION:\nhttps://www.skyhigh-ev.de/events/sprungwoche-calw-2/
URL:https://www.skyhigh-ev.de/events/sprungwoche-calw-2/
END:VEVENT
END:VCALENDAR