BEGIN:VCALENDAR
VERSION:2.0
PRODID:-//eventon.com NONSGML v1.0//EN
CALSCALE:GREGORIAN
METHOD:PUBLISH
BEGIN:VEVENT
UID:69eb3b313512d
DTSTAMP:20260424T094313Z
DTSTART:20260604
DTEND:20260605
LOCATION:Skydive Calw Beckenäcker 19
SUMMARY:Sprungwoche Calw
DESCRIPTION:\nhttps://www.skyhigh-ev.de/events/sprungwoche-calw/
URL:https://www.skyhigh-ev.de/events/sprungwoche-calw/
END:VEVENT
END:VCALENDAR