BEGIN:VCALENDAR
VERSION:2.0
PRODID:-//eventon.com NONSGML v1.0//EN
CALSCALE:GREGORIAN
METHOD:PUBLISH
BEGIN:VEVENT
UID:69eb3ab7ab3ae
DTSTAMP:20260424T094111Z
DTSTART:20260626
DTEND:20260627
LOCATION:Drop Zone Eschbach Hartheimer Straße 15a
SUMMARY:Groundschool KW26
DESCRIPTION:Es erwarten euch zwei lehrreiche Tage\,  rund um Theorie und Pr
 axis des SportsMitbringen musst Du das Tauglichkeitsattest &#8211; auszufü
 llen von jedem Hausarzt (zu finden unter Downloads)\,  einen aufnahmefähig
 en Kopf und gute Laune. Wir werden am Freitag um 14 Uhr starten und Samstag
  ganztags unterrichten. Die ersten Sprünge finden bei passenden[..]\nhttps
 ://www.skyhigh-ev.de/events/groundschool-kw26/
URL:https://www.skyhigh-ev.de/events/groundschool-kw26/
END:VEVENT
END:VCALENDAR