BEGIN:VCALENDAR
VERSION:2.0
PRODID:-//eventon.com NONSGML v1.0//EN
CALSCALE:GREGORIAN
METHOD:PUBLISH
BEGIN:VEVENT
UID:69eb3b6a716b8
DTSTAMP:20260424T094410Z
DTSTART:20260424
DTEND:20260425
LOCATION:Drop Zone Eschbach Hartheimer Straße 15a
SUMMARY:Groundschool KW17
DESCRIPTION:Es erwarten euch zwei lehrreiche Tage\,  rund um Theorie und Pr
 axis des SportsMitbringen musst Du das Tauglichkeitsattest &#8211; auszufü
 llen von jedem Hausarzt (zu finden unter Downloads)\,  einen aufnahmefähig
 en Kopf und gute Laune. Wir werden am Freitag um 14 Uhr starten und Samstag
  ganztags unterrichten. Die ersten Sprünge finden bei passenden[..]\nhttps
 ://www.skyhigh-ev.de/events/groundschool-kw17-2/
URL:https://www.skyhigh-ev.de/events/groundschool-kw17-2/
END:VEVENT
END:VCALENDAR